BEGIN:VCALENDAR
VERSION:2.0
PRODID:-//Schudio.com//Schudio Calendar 1.0//EN
CALSCALE:GREGORIAN
METHOD:PUBLISH
X-WR-CALNAME:Selwood Academy
X-WR-TIMEZONE:Europe/London
BEGIN:VEVENT
SUMMARY:Ice Cream van
UID:040000008200E00074C5B7101A82E00800000000F0CBE3111FF7DB01000000000000000
 0100000001D70B4F23F68BF43AEC46F72F6F0E5A0
SEQUENCE:0
STATUS:CONFIRMED
TRANSP:TRANSPARENT
DTSTART:20260515T134500
DTEND:20260515T151000
DTSTAMP:20260422T131655Z
CREATED:20260202T164956Z
LAST-MODIFIED:20260202T164956Z
CATEGORIES:Whole School
LOCATION:
ORGANIZER:
DESCRIPTION:
END:VEVENT
END:VCALENDAR