BEGIN:VCALENDAR
VERSION:2.0
PRODID:-//Schudio.com//Schudio Calendar 1.0//EN
CALSCALE:GREGORIAN
METHOD:PUBLISH
X-WR-CALNAME:Selwood Academy
X-WR-TIMEZONE:Europe/London
BEGIN:VEVENT
SUMMARY:Yr 5 Coffee Morning
UID:040000008200E00074C5B7101A82E008000000006031CF3C1FF7DB01000000000000000
 0100000009E5B35C2639106438CD60D0A251DEE69
SEQUENCE:0
STATUS:CONFIRMED
TRANSP:TRANSPARENT
DTSTART:20260522T110000
DTEND:20260522T113000
DTSTAMP:20260423T152818Z
CREATED:20260202T164956Z
LAST-MODIFIED:20260202T164956Z
CATEGORIES:Whole School
LOCATION:
ORGANIZER:
DESCRIPTION:Library
END:VEVENT
END:VCALENDAR