BEGIN:VCALENDAR
VERSION:2.0
PRODID:-//Schudio.com//Schudio Calendar 1.0//EN
CALSCALE:GREGORIAN
METHOD:PUBLISH
X-WR-CALNAME:Selwood Academy
X-WR-TIMEZONE:Europe/London
BEGIN:VEVENT
SUMMARY:BANK HOLIDAY
UID:040000008200E00074C5B7101A82E008000000006086AAC9C04CDC01000000000000000
 010000000779B453AC8116549AFB98A198935C046
SEQUENCE:0
STATUS:CONFIRMED
TRANSP:TRANSPARENT
DTSTART;VALUE=DATE:20260525
DTEND;VALUE=DATE:20260526
DTSTAMP:20260423T153456Z
CREATED:20260202T164957Z
LAST-MODIFIED:20260202T164957Z
CATEGORIES:Whole School
LOCATION:
ORGANIZER:
DESCRIPTION:
END:VEVENT
END:VCALENDAR